BEGIN:VCALENDAR
VERSION:2.0
PRODID:SchoolNow
CALSCALE:GREGORIAN
BEGIN:VEVENT
UID:bf2781e6-8d63-11f0-b10c-02538cadc0c7
DTSTAMP:20250909T095959Z
SUMMARY:CDD Board Meeting - Jun. 2026
LOCATION:Holiday Inn Express & Suites\, 226 Teco Road\, Ruskin\, Florida 33
 701
URL;VALUE=URI:https://www.dgfarmscdd.org/calendar/8598606/cdd-board-meeting
 -jun-2026
DTSTART:20260608T220000Z
DTEND:20260608T230000Z
END:VEVENT
END:VCALENDAR
