BEGIN:VCALENDAR
VERSION:2.0
PRODID:SchoolNow
CALSCALE:GREGORIAN
BEGIN:VEVENT
UID:b4d5e17e-8d63-11f0-93d7-0ee2387fc54b
DTSTAMP:20250909T095942Z
SUMMARY:CDD Board Meeting - May 2026
LOCATION:Holiday Inn Express & Suites\, 226 Teco Road\, Ruskin\, Florida 33
 701
URL;VALUE=URI:https://www.dgfarmscdd.org/calendar/8598605/cdd-board-meeting
 -may-2026
DTSTART:20260511T220000Z
DTEND:20260511T230000Z
END:VEVENT
END:VCALENDAR
