BEGIN:VCALENDAR
VERSION:2.0
PRODID:SchoolNow
CALSCALE:GREGORIAN
BEGIN:VEVENT
UID:a25e380c-8d63-11f0-a382-0e85b1ffd38d
DTSTAMP:20260309T170146Z
SUMMARY:CDD Board Meeting and Public Hearing - Mar. 2026
LOCATION:Holiday Inn Express & Suites\, 226 Teco Road\, Ruskin\, Florida 33
 701
URL;VALUE=URI:https://www.dgfarmscdd.org/calendar/8598603/cdd-board-meeting
 -mar-2026
DTSTART:20260309T220000Z
DTEND:20260309T230000Z
ATTACH;FILENAME=DG Farms CDD 2026-03-09 Revised Agenda_merged_compressed.pd
 f;FMTTYPE=application/pdf:https://campussuite-storage.s3.amazonaws.com/pro
 d/1558785/711d7500-a7dc-11e9-aa1e-127b6eacda64/3077962/1f6f6830-1bd9-11f1-
 a88b-0a58a9feac02/file/DG Farms CDD 2026-03-09 Revised Agenda_merged_compr
 essed.pdf
END:VEVENT
END:VCALENDAR
